BEGIN:VCALENDAR
PRODID:-//eluceo/ical//2.0/EN
VERSION:2.0
CALSCALE:GREGORIAN
BEGIN:VEVENT
UID:a4ff5a2e0a3566eff22dbecce76ea1e3
DTSTAMP:20260425T121327Z
SUMMARY:Vad uppfattar vi som vackert i arkitekturen
DESCRIPTION:
URL:https://ekero.rotary2355.se/en/agenda/show/49952
DTSTART;TZID=Europe/Zurich:20020107T000000
DTEND;TZID=Europe/Zurich:20020107T190000
LOCATION:-
CATEGORIES:Rotary
END:VEVENT
BEGIN:VTIMEZONE
TZID:Europe/Zurich
BEGIN:STANDARD
DTSTART:20020107T000000
TZNAME:CET
TZOFFSETTO:+0100
TZOFFSETFROM:+0100
END:STANDARD
END:VTIMEZONE
END:VCALENDAR
